BEGIN:VCALENDAR
VERSION:2.0
PRODID:-//Imkerverein 1837 Weimar e.V. - ECPv6.15.20//NONSGML v1.0//EN
CALSCALE:GREGORIAN
METHOD:PUBLISH
X-WR-CALNAME:Imkerverein 1837 Weimar e.V.
X-ORIGINAL-URL:https://imkerweimar.de
X-WR-CALDESC:Veranstaltungen für Imkerverein 1837 Weimar e.V.
REFRESH-INTERVAL;VALUE=DURATION:PT1H
X-Robots-Tag:noindex
X-PUBLISHED-TTL:PT1H
BEGIN:VTIMEZONE
TZID:UTC
BEGIN:STANDARD
TZOFFSETFROM:+0000
TZOFFSETTO:+0000
TZNAME:UTC
DTSTART:20250101T000000
END:STANDARD
END:VTIMEZONE
BEGIN:VEVENT
DTSTART;TZID=UTC:20260501T110000
DTEND;TZID=UTC:20260501T170000
DTSTAMP:20260419T143002
CREATED:20260302T094341Z
LAST-MODIFIED:20260302T094341Z
UID:2642-1777633200-1777654800@imkerweimar.de
SUMMARY:Backofenfest des Deutschen Bienenmuseums
DESCRIPTION:helfende Hände werden gesucht
URL:https://imkerweimar.de/termin/backofenfest-des-deutschen-bienenmuseums/
LOCATION:Deutsches Bienenmuseum\, lmstraße 3\, Weimar\, Thüringen\, 99425
END:VEVENT
BEGIN:VEVENT
DTSTART;TZID=UTC:20260530T100000
DTEND;TZID=UTC:20260530T140000
DTSTAMP:20260419T143002
CREATED:20260302T094958Z
LAST-MODIFIED:20260302T094958Z
UID:2644-1780135200-1780149600@imkerweimar.de
SUMMARY:Zuchtstoffabgabe und Umlarven
DESCRIPTION:
URL:https://imkerweimar.de/termin/zuchtstoffabgabe-und-umlarven/
LOCATION:Bienengarten auf der Gräfinleite\, Gräfinleitebei Blankenhain
END:VEVENT
END:VCALENDAR