BEGIN:VCALENDAR
VERSION:2.0
PRODID:-//Imkerverein 1837 Weimar e.V. - ECPv6.15.20//NONSGML v1.0//EN
CALSCALE:GREGORIAN
METHOD:PUBLISH
X-WR-CALNAME:Imkerverein 1837 Weimar e.V.
X-ORIGINAL-URL:https://imkerweimar.de
X-WR-CALDESC:Veranstaltungen für Imkerverein 1837 Weimar e.V.
REFRESH-INTERVAL;VALUE=DURATION:PT1H
X-Robots-Tag:noindex
X-PUBLISHED-TTL:PT1H
BEGIN:VTIMEZONE
TZID:UTC
BEGIN:STANDARD
TZOFFSETFROM:+0000
TZOFFSETTO:+0000
TZNAME:UTC
DTSTART:20250101T000000
END:STANDARD
END:VTIMEZONE
BEGIN:VEVENT
DTSTART;VALUE=DATE:20260627
DTEND;VALUE=DATE:20260628
DTSTAMP:20260419T160955
CREATED:20260302T100451Z
LAST-MODIFIED:20260302T100451Z
UID:2652-1782518400-1782604799@imkerweimar.de
SUMMARY:Wanderversammlung
DESCRIPTION:Bienenkirche Rastenberg und Umgebung\, Yvonne  Pächnatz
URL:https://imkerweimar.de/termin/wanderversammlung/
LOCATION:Bienenkirche Rastenberg\, Kirchplatz 1\, 99636 Rastenberg OT Roldisleben
END:VEVENT
END:VCALENDAR