BEGIN:VCALENDAR
VERSION:2.0
PRODID:-//Imkerverein 1837 Weimar e.V. - ECPv6.15.20//NONSGML v1.0//EN
CALSCALE:GREGORIAN
METHOD:PUBLISH
X-WR-CALNAME:Imkerverein 1837 Weimar e.V.
X-ORIGINAL-URL:https://imkerweimar.de
X-WR-CALDESC:Veranstaltungen für Imkerverein 1837 Weimar e.V.
REFRESH-INTERVAL;VALUE=DURATION:PT1H
X-Robots-Tag:noindex
X-PUBLISHED-TTL:PT1H
BEGIN:VTIMEZONE
TZID:UTC
BEGIN:STANDARD
TZOFFSETFROM:+0000
TZOFFSETTO:+0000
TZNAME:UTC
DTSTART:20250101T000000
END:STANDARD
END:VTIMEZONE
BEGIN:VEVENT
DTSTART;TZID=UTC:20261205T110000
DTEND;TZID=UTC:20261206T170000
DTSTAMP:20260420T031816
CREATED:20260302T102113Z
LAST-MODIFIED:20260302T102113Z
UID:2669-1796468400-1796576400@imkerweimar.de
SUMMARY:Adventsmarkt  mit Bratroststand Imkerverein1837 Weimar
DESCRIPTION:Markthelfer melden sich bitte bei Claudia Remus
URL:https://imkerweimar.de/termin/adventsmarkt-mit-bratroststand-imkerverein1837-weimar/
LOCATION:Deutsches Bienenmuseum\, lmstraße 3\, Weimar\, Thüringen\, 99425
END:VEVENT
END:VCALENDAR